Workbook

Sheet 销售记录表
A1: 6月份销售记录表
A2: 日期 | B2: 编码 | C2: 品牌 | D2: 产品名称 | E2: 尺寸 | F2: 单位 | G2: 销售单价 | H2: 销售数量 | I2: 销售金额 | J2: 业务员 | K2: 客户
A3: 41061 | B3: A-001 | C3: 宜家 | D3: 储物柜书架 | E3: 180*40*24 | F3: 件 | G3: 100 | H3: 28 | I3: =G3*H3 -> 2800 | J3: 吴媛媛 | K3: 永嘉家居有限公司
A4: 41061 | B4: D-004 | C4: 名匠轩 | D4: 白像CT703A长茶几 | E4: 1350*700*380 | F4: 件 | G4: 996 | H4: 35 | I4: =G4*H4 -> 34860 | J4: 滕念 | K4: 利耘大商场
A5: 41061 | B5: H-004 | C5: 一点家居 | D5: 成套餐桌椅子 | E5: 组合 | F5: 套 | G5: 1758 | H5: 30 | I5: =G5*H5 -> 52740 | J5: 孙飞飞 | K5: 布洛克家居
A6: 41062 | B6: A-002 | C6: 宜家 | D6: 韩式鞋柜 | E6: 80x50x30 | F6: 件 | G6: 180 | H6: 50 | I6: =G6*H6 -> 9000 | J6: 吴媛媛 | K6: 永嘉家居有限公司
A7: 41062 | B7: D-008 | C7: 名匠轩 | D7: 花几/电话几N-L-004 | E7: 400*400*850 | F7: 件 | G7: 3698 | H7: 25 | I7: =G7*H7 -> 92450 | J7: 滕念 | K7: 百家汇家居世界
A8: 41063 | B8: B-004 | C8: 丰穗家具 | D8: 田园折叠双人懒人沙发床 | E8: 200*140 | F8: 件 | G8: 400 | H8: 10 | I8: =G8*H8 -> 4000 | J8: 孙飞飞 | K8: 永嘉家居有限公司
A9: 41063 | B9: D-006 | C9: 名匠轩 | D9: 白橡CT701C小方茶几 | E9: 700*700*480 | F9: 件 | G9: 695 | H9: 30 | I9: =G9*H9 -> 20850 | J9: 滕念 | K9: 利耘大商场
A10: 41063 | B10: H-001 | C10: 一点家居 | D10: 仿古实木手工雕刻咖啡桌三件套 | E10: 咖啡桌57CM*51 | F10: 套 | G10: 690 | H10: 16 | I10: =G10*H10 -> 11040 | J10: 孙飞飞 | K10: 布洛克家居
A11: 41064 | B11: B-005 | C11: 丰穗家具 | D11: 单人折叠加长加宽懒人沙发 | E11: 224*66*13cm | F11: 件 | G11: 348 | H11: 8 | I11: =G11*H11 -> 2784 | J11: 孙飞飞 | K11: 利耘大商场
A12: 41065 | B12: A-003 | C12: 宜家 | D12: 韩式简约衣橱 | E12: 800*450*1500 | F12: 件 | G12: 688 | H12: 35 | I12: =G12*H12 -> 24080 | J12: 吴媛媛 | K12: 百家汇家居世界
A13: 41065 | B13: B-003 | C13: 丰穗家具 | D13: 田园折叠双人懒人沙发床 | E13: 138*140 | F13: 件 | G13: 650 | H13: 20 | I13: =G13*H13 -> 13000 | J13: 孙飞飞 | K13: 布洛克家居
A14: 41065 | B14: D-005 | C14: 名匠轩 | D14: 白像T705休闲几 | E14: 550*550*575 | F14: 件 | G14: 480 | H14: 42 | I14: =G14*H14 -> 20160 | J14: 滕念 | K14: 利耘大商场
... A52: 41090 | B52: H-005 | C52: 一点家居 | D52: 欧美式 椭圆餐桌 | E52: 162*77*168 | F52: 件 | G52: 1088 | H52: 50 | I52: =G52*H52 -> 54400 | J52: 彭宇 | K52: 百家汇家居世界

Sheet 品牌销售
A3: 求和项:销售数量 | B3: 品牌
A4: 日期 | B4: 丰穗家具 | C4: 名匠轩 | D4: 藤缘名居 | E4: 一点家居 | F4: 宜家 | G4: 总计
A5: 41061 | C5: 35 | E5: 30 | F5: 28 | G5: 93
A6: 41062 | C6: 25 | F6: 50 | G6: 75
A7: 41063 | B7: 10 | C7: 30 | E7: 16 | G7: 56
A8: 41064 | B8: 8 | G8: 8
A9: 41065 | B9: 20 | C9: 42 | E9: 36 | F9: 35 | G9: 133
A10: 41067 | F10: 28 | G10: 28
A11: 41068 | B11: 18 | C11: 59 | E11: 15 | G11: 92
A12: 41070 | E12: 20 | G12: 20
A13: 41071 | D13: 50 | G13: 50
A14: 41072 | C14: 10 | D14: 60 | E14: 19 | G14: 89
A15: 41073 | D15: 10 | G15: 10
A16: 41075 | B16: 5 | C16: 8 | D16: 14 | G16: 27
A17: 41076 | C17: 8 | E17: 20 | F17: 28 | G17: 56
A18: 41077 | E18: 15 | F18: 12 | G18: 27
A19: 41078 | B19: 14 | D19: 120 | G19: 134
A20: 41079 | C20: 130 | G20: 130
A21: 41080 | D21: 60 | F21: 50 | G21: 110
A22: 41081 | C22: 7 | G22: 7
A23: 41082 | B23: 8 | G23: 8
A24: 41083 | C24: 10 | G24: 10
A25: 41084 | E25: 15 | G25: 15
A26: 41085 | B26: 20 | G26: 20
A27: 41086 | F27: 12 | G27: 12
A28: 41087 | B28: 16 | G28: 16
A29: 41088 | C29: 24 | G29: 24
A30: 41090 | C30: 28 | E30: 50 | G30: 78
A31: 总计 | B31: 119 | C31: 416 | D31: 314 | E31: 236 | F31: 243 | G31: 1328

Sheet 按产品统计销售收入
B2: 按产品统计销售收入
B3: 公司名称 | C3: 华云信息有限公司 | D3: 单位：元
B4: 品牌 | C4: 销售数量 | D4: 销售收入
B5: 宜家 | C5: =SUMIF(销售记录表!$C$3:$C$52,B5,销售记录表!$H$3:$H$52) -> 243 | D5: =SUMIF(销售记录表!$C$3:$C$52,B5,销售记录表!$I$3:$I$52) -> 75136
B6: 名匠轩 | C6: =SUMIF(销售记录表!$C$3:$C$52,B6,销售记录表!$H$3:$H$52) -> 416 | D6: =SUMIF(销售记录表!$C$3:$C$52,B6,销售记录表!$I$3:$I$52) -> 519978
B7: 一点家居 | C7: =SUMIF(销售记录表!$C$3:$C$52,B7,销售记录表!$H$3:$H$52) -> 236 | D7: =SUMIF(销售记录表!$C$3:$C$52,B7,销售记录表!$I$3:$I$52) -> 232312
B8: 藤缘名居 | C8: =SUMIF(销售记录表!$C$3:$C$52,B8,销售记录表!$H$3:$H$52) -> 314 | D8: =SUMIF(销售记录表!$C$3:$C$52,B8,销售记录表!$I$3:$I$52) -> 81435
B9: 丰穗家具 | C9: =SUMIF(销售记录表!$C$3:$C$52,B9,销售记录表!$H$3:$H$52) -> 119 | D9: =SUMIF(销售记录表!$C$3:$C$52,B9,销售记录表!$I$3:$I$52) -> 76184
B10: 合计 | C10: =SUM(C5:C9) -> 1328 | D10: =SUM(D5:D9) -> 985045
